BEGIN:VCALENDAR
VERSION:2.0
PRODID:-//SENKO Advanced Components, Inc. - ECPv6.15.18//NONSGML v1.0//EN
CALSCALE:GREGORIAN
METHOD:PUBLISH
X-WR-CALNAME:SENKO Advanced Components, Inc.
X-ORIGINAL-URL:https://www.senko.com
X-WR-CALDESC:Events for SENKO Advanced Components, Inc.
REFRESH-INTERVAL;VALUE=DURATION:PT1H
X-Robots-Tag:noindex
X-PUBLISHED-TTL:PT1H
BEGIN:VTIMEZONE
TZID:America/New_York
BEGIN:DAYLIGHT
TZOFFSETFROM:-0500
TZOFFSETTO:-0400
TZNAME:EDT
DTSTART:20250309T070000
END:DAYLIGHT
BEGIN:STANDARD
TZOFFSETFROM:-0400
TZOFFSETTO:-0500
TZNAME:EST
DTSTART:20251102T060000
END:STANDARD
BEGIN:DAYLIGHT
TZOFFSETFROM:-0500
TZOFFSETTO:-0400
TZNAME:EDT
DTSTART:20260308T070000
END:DAYLIGHT
BEGIN:STANDARD
TZOFFSETFROM:-0400
TZOFFSETTO:-0500
TZNAME:EST
DTSTART:20261101T060000
END:STANDARD
BEGIN:DAYLIGHT
TZOFFSETFROM:-0500
TZOFFSETTO:-0400
TZNAME:EDT
DTSTART:20270314T070000
END:DAYLIGHT
BEGIN:STANDARD
TZOFFSETFROM:-0400
TZOFFSETTO:-0500
TZNAME:EST
DTSTART:20271107T060000
END:STANDARD
END:VTIMEZONE
BEGIN:VEVENT
DTSTART;TZID=America/New_York:20260118T080000
DTEND;TZID=America/New_York:20260122T170000
DTSTAMP:20260425T201004
CREATED:20251017T134451Z
LAST-MODIFIED:20251017T135136Z
UID:33018-1768723200-1769101200@www.senko.com
SUMMARY:BICSI Winter 2026
DESCRIPTION:Get ready for an unforgettable experience at the 2026 BICSI Winter Conference & Exhibition\, 2-6 February\, at the Gaylord Palms Resort & Convention Center in Orlando\, Florida. With every session\, connection\, and new idea\, you’ll discover countless ways to grow professionally to advance your career.
URL:https://s23.a2zinc.net/clients/BICSI/winter2026/public/mainhall.aspx
LOCATION:Orlando\, Orlando\, FL\, United States
CATEGORIES:Cudoform Events,Senko Events
ATTACH;FMTTYPE=image/jpeg:https://www.senko.com/wp-content/uploads/2023/04/BICSI-logo.jpg
END:VEVENT
END:VCALENDAR