BEGIN:VCALENDAR
VERSION:2.0
PRODID:-//SENKO Advanced Components, Inc. - ECPv6.15.18//NONSGML v1.0//EN
CALSCALE:GREGORIAN
METHOD:PUBLISH
X-WR-CALNAME:SENKO Advanced Components, Inc.
X-ORIGINAL-URL:https://www.senko.com
X-WR-CALDESC:Events for SENKO Advanced Components, Inc.
REFRESH-INTERVAL;VALUE=DURATION:PT1H
X-Robots-Tag:noindex
X-PUBLISHED-TTL:PT1H
BEGIN:VTIMEZONE
TZID:America/New_York
BEGIN:DAYLIGHT
TZOFFSETFROM:-0500
TZOFFSETTO:-0400
TZNAME:EDT
DTSTART:20250309T070000
END:DAYLIGHT
BEGIN:STANDARD
TZOFFSETFROM:-0400
TZOFFSETTO:-0500
TZNAME:EST
DTSTART:20251102T060000
END:STANDARD
BEGIN:DAYLIGHT
TZOFFSETFROM:-0500
TZOFFSETTO:-0400
TZNAME:EDT
DTSTART:20260308T070000
END:DAYLIGHT
BEGIN:STANDARD
TZOFFSETFROM:-0400
TZOFFSETTO:-0500
TZNAME:EST
DTSTART:20261101T060000
END:STANDARD
BEGIN:DAYLIGHT
TZOFFSETFROM:-0500
TZOFFSETTO:-0400
TZNAME:EDT
DTSTART:20270314T070000
END:DAYLIGHT
BEGIN:STANDARD
TZOFFSETFROM:-0400
TZOFFSETTO:-0500
TZNAME:EST
DTSTART:20271107T060000
END:STANDARD
END:VTIMEZONE
BEGIN:VEVENT
DTSTART;TZID=America/New_York:20260531T080000
DTEND;TZID=America/New_York:20260604T170000
DTSTAMP:20260425T180923
CREATED:20260323T174339Z
LAST-MODIFIED:20260323T174339Z
UID:33512-1780214400-1780592400@www.senko.com
SUMMARY:Cisco Live 2026
DESCRIPTION:Cisco Live is the place to be to meet\, greet\, learn\, and share ways of solving some of the biggest challenges out there. Let’s get back together to build community\, share experiences\, and discover solutions. We can’t wait to see you!
URL:https://www.ciscolive.com/global.html#new_tab
LOCATION:San Diego Convention Center
CATEGORIES:Senko Events
ATTACH;FMTTYPE=image/jpeg:https://www.senko.com/wp-content/uploads/2023/03/CISCO-LIVE-2023.jpg
END:VEVENT
END:VCALENDAR